BEGIN:VCALENDAR
VERSION:2.0
PRODID:-//John Colianni - ECPv5.14.0.4//NONSGML v1.0//EN
CALSCALE:GREGORIAN
METHOD:PUBLISH
X-WR-CALNAME:John Colianni
X-ORIGINAL-URL:https://johncolianni.com
X-WR-CALDESC:Events for John Colianni
BEGIN:VTIMEZONE
TZID:UTC
BEGIN:STANDARD
TZOFFSETFROM:+0000
TZOFFSETTO:+0000
TZNAME:UTC
DTSTART:20190101T000000
END:STANDARD
END:VTIMEZONE
BEGIN:VEVENT
DTSTART;TZID=UTC:20190623T190000
DTEND;TZID=UTC:20190623T210000
DTSTAMP:20260421T114248
CREATED:20180725T224040Z
LAST-MODIFIED:20190613T162810Z
UID:1445-1561316400-1561323600@johncolianni.com
SUMMARY:The John Colianni Trio with Greg Farnese at the James G. Atkinson Park Amphitheater
DESCRIPTION:
URL:https://johncolianni.com/event/the-john-colianni-trio-with-greg-farnese-at-the-james-g-atkinson-park-amphitheater/
LOCATION:James G. Atkinson Memorial Park Amphitheater\, 138 Bethel Mill Rd\, Sewell\, NJ\, 08080\, United States
END:VEVENT
END:VCALENDAR