BEGIN:VCALENDAR
VERSION:2.0
PRODID:-//John Colianni - ECPv5.14.0.4//NONSGML v1.0//EN
CALSCALE:GREGORIAN
METHOD:PUBLISH
X-WR-CALNAME:John Colianni
X-ORIGINAL-URL:https://johncolianni.com
X-WR-CALDESC:Events for John Colianni
BEGIN:VTIMEZONE
TZID:UTC
BEGIN:STANDARD
TZOFFSETFROM:+0000
TZOFFSETTO:+0000
TZNAME:UTC
DTSTART:20170101T000000
END:STANDARD
END:VTIMEZONE
BEGIN:VEVENT
DTSTART;TZID=UTC:20171215T210000
DTEND;TZID=UTC:20171215T210000
DTSTAMP:20260422T011626
CREATED:20171122T183958Z
LAST-MODIFIED:20171208T182206Z
UID:841-1513371600-1513371600@johncolianni.com
SUMMARY:John Colianni
DESCRIPTION:With Bassist Boots Maleson
URL:https://johncolianni.com/event/john-colianni/
LOCATION:Knickerbocker Bar & Grill\, 33 University Place\, New York\, NY\, 10003\, United States
ATTACH;FMTTYPE=image/jpeg:https://johncolianni.com/wp-content/uploads/2017/11/19225012_10156294155059196_581279560082523285_n.jpg
END:VEVENT
END:VCALENDAR