BEGIN:VCALENDAR
VERSION:2.0
PRODID:-//John Colianni - ECPv5.14.0.4//NONSGML v1.0//EN
CALSCALE:GREGORIAN
METHOD:PUBLISH
X-WR-CALNAME:John Colianni
X-ORIGINAL-URL:https://johncolianni.com
X-WR-CALDESC:Events for John Colianni
BEGIN:VTIMEZONE
TZID:UTC
BEGIN:STANDARD
TZOFFSETFROM:+0000
TZOFFSETTO:+0000
TZNAME:UTC
DTSTART:20200101T000000
END:STANDARD
END:VTIMEZONE
BEGIN:VEVENT
DTSTART;TZID=UTC:20200120T183000
DTEND;TZID=UTC:20200120T210000
DTSTAMP:20260421T065701
CREATED:20180725T224040Z
LAST-MODIFIED:20200117T030908Z
UID:1529-1579545000-1579554000@johncolianni.com
SUMMARY:John Colianni with Young Robert Wagner at Minskoff Theatre
DESCRIPTION:
URL:https://johncolianni.com/event/john-colianni-with-yrwagner-at-minskoff-theatre/
LOCATION:Minskoff Theatre\, 200 w 45th St\, New York\, NY\, 10036\, United States
END:VEVENT
END:VCALENDAR