BEGIN:VCALENDAR
VERSION:2.0
PRODID:-//John Colianni - ECPv5.14.0.4//NONSGML v1.0//EN
CALSCALE:GREGORIAN
METHOD:PUBLISH
X-WR-CALNAME:John Colianni
X-ORIGINAL-URL:https://johncolianni.com
X-WR-CALDESC:Events for John Colianni
BEGIN:VTIMEZONE
TZID:UTC
BEGIN:STANDARD
TZOFFSETFROM:+0000
TZOFFSETTO:+0000
TZNAME:UTC
DTSTART:20190101T000000
END:STANDARD
END:VTIMEZONE
BEGIN:VEVENT
DTSTART;TZID=UTC:20191227T213000
DTEND;TZID=UTC:20191228T003000
DTSTAMP:20260421T083148
CREATED:20180725T224040Z
LAST-MODIFIED:20191217T020741Z
UID:1513-1577482200-1577493000@johncolianni.com
SUMMARY:John Colianni with Victor North at the Rittenhouse Hotel
DESCRIPTION:
URL:https://johncolianni.com/event/john-colianni-with-victor-north-at-the-rittenhouse-hotel/
LOCATION:The Rittenhouse Hotel\, 210 West Rittenhouse Square\, Philadelphia\, PA\, 19103\, United States
END:VEVENT
END:VCALENDAR