BEGIN:VCALENDAR
VERSION:2.0
PRODID:-//John Colianni - ECPv5.14.0.4//NONSGML v1.0//EN
CALSCALE:GREGORIAN
METHOD:PUBLISH
X-WR-CALNAME:John Colianni
X-ORIGINAL-URL:https://johncolianni.com
X-WR-CALDESC:Events for John Colianni
BEGIN:VTIMEZONE
TZID:UTC
BEGIN:STANDARD
TZOFFSETFROM:+0000
TZOFFSETTO:+0000
TZNAME:UTC
DTSTART:20200101T000000
END:STANDARD
END:VTIMEZONE
BEGIN:VEVENT
DTSTART;TZID=UTC:20200208T173000
DTEND;TZID=UTC:20200208T193000
DTSTAMP:20260421T065733
CREATED:20180725T224040Z
LAST-MODIFIED:20200208T051952Z
UID:1550-1581183000-1581190200@johncolianni.com
SUMMARY:John Colianni with The Wayne Henderson Sextet at the Ossie Davis Theater
DESCRIPTION:
URL:https://johncolianni.com/event/john-colianni-with-the-wayne-henderson-sextet-at-the-ossie-davis-theater-2-8-2020/
LOCATION:The Ossie Davis Theater\, 1 Library Plaza\, New Rochelle\, NY\, 10801\, United States
END:VEVENT
END:VCALENDAR