BEGIN:VCALENDAR
VERSION:2.0
PRODID:-//John Colianni - ECPv5.14.0.4//NONSGML v1.0//EN
CALSCALE:GREGORIAN
METHOD:PUBLISH
X-WR-CALNAME:John Colianni
X-ORIGINAL-URL:https://johncolianni.com
X-WR-CALDESC:Events for John Colianni
BEGIN:VTIMEZONE
TZID:UTC
BEGIN:STANDARD
TZOFFSETFROM:+0000
TZOFFSETTO:+0000
TZNAME:UTC
DTSTART:20190101T000000
END:STANDARD
END:VTIMEZONE
BEGIN:VEVENT
DTSTART;TZID=UTC:20190619T193000
DTEND;TZID=UTC:20190619T210000
DTSTAMP:20260421T114623
CREATED:20180725T224040Z
LAST-MODIFIED:20190510T174624Z
UID:1431-1560972600-1560978000@johncolianni.com
SUMMARY:John Colianni with South Jersey All Stars
DESCRIPTION:
URL:https://johncolianni.com/event/john-colianni-with-south-jersey-all-stars/
LOCATION:Gregory’s Restaurant and Bar\, 900 Shore Road\, Somers Point\, NJ\, 08244\, United States
END:VEVENT
END:VCALENDAR