BEGIN:VCALENDAR
VERSION:2.0
PRODID:-//John Colianni - ECPv5.14.0.4//NONSGML v1.0//EN
CALSCALE:GREGORIAN
METHOD:PUBLISH
X-WR-CALNAME:John Colianni
X-ORIGINAL-URL:https://johncolianni.com
X-WR-CALDESC:Events for John Colianni
BEGIN:VTIMEZONE
TZID:UTC
BEGIN:STANDARD
TZOFFSETFROM:+0000
TZOFFSETTO:+0000
TZNAME:UTC
DTSTART:20200101T000000
END:STANDARD
END:VTIMEZONE
BEGIN:VEVENT
DTSTART;TZID=UTC:20200320T213000
DTEND;TZID=UTC:20200320T223000
DTSTAMP:20260421T052135
CREATED:20180725T224040Z
LAST-MODIFIED:20200219T060153Z
UID:1568-1584739800-1584743400@johncolianni.com
SUMMARY:John Colianni Trio with Lizzie Thomas at the Gin Fizz Harlem
DESCRIPTION:
URL:https://johncolianni.com/event/john-colianni-with-lizzie-thomas-at-gin-fizz-harlem-2/
LOCATION:GinFizz Harlem\, 308 Lenox Ave\, New York\, NY\, 10027\, United States
END:VEVENT
END:VCALENDAR