BEGIN:VCALENDAR
VERSION:2.0
PRODID:-//John Colianni - ECPv5.14.0.4//NONSGML v1.0//EN
CALSCALE:GREGORIAN
METHOD:PUBLISH
X-WR-CALNAME:John Colianni
X-ORIGINAL-URL:https://johncolianni.com
X-WR-CALDESC:Events for John Colianni
BEGIN:VTIMEZONE
TZID:UTC
BEGIN:STANDARD
TZOFFSETFROM:+0000
TZOFFSETTO:+0000
TZNAME:UTC
DTSTART:20190101T000000
END:STANDARD
END:VTIMEZONE
BEGIN:VEVENT
DTSTART;TZID=UTC:20190613T193000
DTEND;TZID=UTC:20190613T220000
DTSTAMP:20260421T115012
CREATED:20180725T224040Z
LAST-MODIFIED:20190606T195722Z
UID:1436-1560454200-1560463200@johncolianni.com
SUMMARY:John Colianni with Felix Peikli
DESCRIPTION:
URL:https://johncolianni.com/event/john-colianni-with-felix-peikli/
LOCATION:The Django\, The Roxy Hotel\, 26th Ave\, New York\, NY\, 10013\, United States
END:VEVENT
END:VCALENDAR