BEGIN:VCALENDAR
VERSION:2.0
PRODID:-//John Colianni - ECPv5.14.0.4//NONSGML v1.0//EN
CALSCALE:GREGORIAN
METHOD:PUBLISH
X-WR-CALNAME:John Colianni
X-ORIGINAL-URL:https://johncolianni.com
X-WR-CALDESC:Events for John Colianni
BEGIN:VTIMEZONE
TZID:UTC
BEGIN:STANDARD
TZOFFSETFROM:+0000
TZOFFSETTO:+0000
TZNAME:UTC
DTSTART:20190101T000000
END:STANDARD
END:VTIMEZONE
BEGIN:VEVENT
DTSTART;TZID=UTC:20190616T180000
DTEND;TZID=UTC:20190616T210000
DTSTAMP:20260421T130028
CREATED:20180725T224040Z
LAST-MODIFIED:20190613T160121Z
UID:1440-1560708000-1560718800@johncolianni.com
SUMMARY:John Colianni with Felix Peikli at San Francisco Jazz Festival
DESCRIPTION:
URL:https://johncolianni.com/event/john-colianni-with-felix-peikli-at-san-francisco-jazz-fest/
LOCATION:Joe Henderson Lab at San Francisco Jazz Center\, 201 Franklin St\, San Francisco\, CA\, 94102\, United States
END:VEVENT
END:VCALENDAR