BEGIN:VCALENDAR
VERSION:2.0
PRODID:-//John Colianni - ECPv5.14.0.4//NONSGML v1.0//EN
CALSCALE:GREGORIAN
METHOD:PUBLISH
X-WR-CALNAME:John Colianni
X-ORIGINAL-URL:https://johncolianni.com
X-WR-CALDESC:Events for John Colianni
BEGIN:VTIMEZONE
TZID:UTC
BEGIN:STANDARD
TZOFFSETFROM:+0000
TZOFFSETTO:+0000
TZNAME:UTC
DTSTART:20190101T000000
END:STANDARD
END:VTIMEZONE
BEGIN:VEVENT
DTSTART;TZID=UTC:20191221T210000
DTEND;TZID=UTC:20191221T210000
DTSTAMP:20260421T084101
CREATED:20180725T224040Z
LAST-MODIFIED:20191217T015209Z
UID:1509-1576962000-1576962000@johncolianni.com
SUMMARY:John Colianni with Boots Maleson
DESCRIPTION:
URL:https://johncolianni.com/event/john-colianni-with-boots-maleson-12-21/
LOCATION:Kinckerbocker Bar & Grill\, 33 University Place\, New York\, NY\, 10003\, United States
END:VEVENT
END:VCALENDAR