BEGIN:VCALENDAR
VERSION:2.0
PRODID:-//John Colianni - ECPv5.14.0.4//NONSGML v1.0//EN
CALSCALE:GREGORIAN
METHOD:PUBLISH
X-WR-CALNAME:John Colianni
X-ORIGINAL-URL:https://johncolianni.com
X-WR-CALDESC:Events for John Colianni
BEGIN:VTIMEZONE
TZID:UTC
BEGIN:STANDARD
TZOFFSETFROM:+0000
TZOFFSETTO:+0000
TZNAME:UTC
DTSTART:20180101T000000
END:STANDARD
END:VTIMEZONE
BEGIN:VEVENT
DTSTART;TZID=UTC:20180127T190000
DTEND;TZID=UTC:20180127T230000
DTSTAMP:20260422T005742
CREATED:20171122T201704Z
LAST-MODIFIED:20171222T033955Z
UID:853-1517079600-1517094000@johncolianni.com
SUMMARY:John Colianni Trio
DESCRIPTION: Jay Leonhart\, Bass / Vito Leschack\, Drums
URL:https://johncolianni.com/event/john-colianni-trio/
LOCATION:Deer Head Inn\, 5 Main Street\, Delaware Water Gap\, PA\, 18327\, United States
ATTACH;FMTTYPE=image/jpeg:https://johncolianni.com/wp-content/uploads/2017/11/John-Colianni-1.jpg
END:VEVENT
END:VCALENDAR