BEGIN:VCALENDAR
VERSION:2.0
PRODID:-//John Colianni - ECPv5.14.0.4//NONSGML v1.0//EN
CALSCALE:GREGORIAN
METHOD:PUBLISH
X-WR-CALNAME:John Colianni
X-ORIGINAL-URL:https://johncolianni.com
X-WR-CALDESC:Events for John Colianni
BEGIN:VTIMEZONE
TZID:UTC
BEGIN:STANDARD
TZOFFSETFROM:+0000
TZOFFSETTO:+0000
TZNAME:UTC
DTSTART:20200101T000000
END:STANDARD
END:VTIMEZONE
BEGIN:VEVENT
DTSTART;VALUE=DATE:20200314
DTEND;VALUE=DATE:20200315
DTSTAMP:20260421T051316
CREATED:20180725T224040Z
LAST-MODIFIED:20201028T191639Z
UID:1577-1584144000-1584230399@johncolianni.com
SUMMARY:John Colianni Trio with George Stella
DESCRIPTION:
URL:https://johncolianni.com/event/john-colianni-trio-with-george-stella/
LOCATION:Rockville Links Club\, 600 N Long Beach Rd\, Rockville Centre\, NY\, 11570\, United States
END:VEVENT
END:VCALENDAR