BEGIN:VCALENDAR
VERSION:2.0
PRODID:-//John Colianni - ECPv5.14.0.4//NONSGML v1.0//EN
CALSCALE:GREGORIAN
METHOD:PUBLISH
X-WR-CALNAME:John Colianni
X-ORIGINAL-URL:https://johncolianni.com
X-WR-CALDESC:Events for John Colianni
BEGIN:VTIMEZONE
TZID:UTC
BEGIN:STANDARD
TZOFFSETFROM:+0000
TZOFFSETTO:+0000
TZNAME:UTC
DTSTART:20200101T000000
END:STANDARD
END:VTIMEZONE
BEGIN:VEVENT
DTSTART;TZID=UTC:20201017T180000
DTEND;TZID=UTC:20201017T193000
DTSTAMP:20260421T051747
CREATED:20201011T025730Z
LAST-MODIFIED:20201011T025730Z
UID:1604-1602957600-1602963000@johncolianni.com
SUMMARY:John Colianni Trio in Virtual Concert\, Michener Museum\, Doylestown\, PA
DESCRIPTION:Production Filmed at The Michener Museum\, Doylestown\, PA \nJohn Colianni Trio\, w Lee Smith (bass)\, Mike Nigro (drums)
URL:https://johncolianni.com/event/john-colianni-trio-in-virtual-concert-michener-museum-doylestown-pa/
LOCATION:Michener Art Museum\, 138 South Pine Street\, Doylestown\, PA\, 18901\, United States
END:VEVENT
END:VCALENDAR