BEGIN:VCALENDAR
VERSION:2.0
PRODID:-//John Colianni - ECPv5.14.0.4//NONSGML v1.0//EN
CALSCALE:GREGORIAN
METHOD:PUBLISH
X-WR-CALNAME:John Colianni
X-ORIGINAL-URL:https://johncolianni.com
X-WR-CALDESC:Events for John Colianni
BEGIN:VTIMEZONE
TZID:UTC
BEGIN:STANDARD
TZOFFSETFROM:+0000
TZOFFSETTO:+0000
TZNAME:UTC
DTSTART:20200101T000000
END:STANDARD
END:VTIMEZONE
BEGIN:VEVENT
DTSTART;TZID=UTC:20200711T180000
DTEND;TZID=UTC:20200711T230000
DTSTAMP:20260421T051721
CREATED:20180725T224040Z
LAST-MODIFIED:20200707T201818Z
UID:1575-1594490400-1594508400@johncolianni.com
SUMMARY:John Colianni Trio with Mike Boone and Bernard Linnette at the Deer Head Inn
DESCRIPTION:
URL:https://johncolianni.com/event/john-colianni-trio-at-the-deer-head-inn-7-11/
LOCATION:Deer Head Inn\, 5 Main Street\, Delaware Water Gap\, PA\, 18327\, United States
END:VEVENT
END:VCALENDAR