BEGIN:VCALENDAR
VERSION:2.0
PRODID:-//John Colianni - ECPv5.14.0.4//NONSGML v1.0//EN
CALSCALE:GREGORIAN
METHOD:PUBLISH
X-WR-CALNAME:John Colianni
X-ORIGINAL-URL:https://johncolianni.com
X-WR-CALDESC:Events for John Colianni
BEGIN:VTIMEZONE
TZID:UTC
BEGIN:STANDARD
TZOFFSETFROM:+0000
TZOFFSETTO:+0000
TZNAME:UTC
DTSTART:20180101T000000
END:STANDARD
END:VTIMEZONE
BEGIN:VEVENT
DTSTART;TZID=UTC:20180218T150000
DTEND;TZID=UTC:20180218T150000
DTSTAMP:20260421T082813
CREATED:20180109T174842Z
LAST-MODIFIED:20180109T174935Z
UID:987-1518966000-1518966000@johncolianni.com
SUMMARY:John Colianni Trio
DESCRIPTION:Acclaimed New York jazz pianist\, John Colianni\, will be performing with his trio at the Circular Congregational Church\, 150 Meeting Street Charleston\, SC 29401\, on Sunday February 18\, 2018 at 3pm. \nColianni has toured with the greats – Mel Tormé\, Les Paul\, Lionel Hampton to name a few. Concord records came calling when John was just starting out in New York and Patuxent Music a few years later. Having recorded well over a dozen albums and being featured on many others\, John Colianni is one of the rare A#1 jazz pianists living and working today. The 17-piece band\, The John Colianni Jazz Orchestra\, plays swing\, modern jazz\, standards\, and original compositions in various venues around NYC. \nColianni’s Trio will work a short tour in South Carolina this February bringing them to Charleston on Sunday February 18\, 2018 @ 3pm. The concert is titled THE STORIES AND THE SONGS. Colianni will share stories about working with the greats and will feature well known tunes. \nMel Tormé said this about John Colianni –\n“The Best You’ll Ever Hear”.
URL:https://johncolianni.com/event/john-colianni-trio-8/
LOCATION:Circular Congressionsal Church\, 150 Meeting Street\, Charleston\, SC\, 29401\, United States
ATTACH;FMTTYPE=image/gif:https://johncolianni.com/wp-content/uploads/2018/01/1025581-250.gif
END:VEVENT
END:VCALENDAR