BEGIN:VCALENDAR
VERSION:2.0
PRODID:-//John Colianni - ECPv5.14.0.4//NONSGML v1.0//EN
CALSCALE:GREGORIAN
METHOD:PUBLISH
X-WR-CALNAME:John Colianni
X-ORIGINAL-URL:https://johncolianni.com
X-WR-CALDESC:Events for John Colianni
BEGIN:VTIMEZONE
TZID:UTC
BEGIN:STANDARD
TZOFFSETFROM:+0000
TZOFFSETTO:+0000
TZNAME:UTC
DTSTART:20180101T000000
END:STANDARD
END:VTIMEZONE
BEGIN:VEVENT
DTSTART;VALUE=DATE:20180214
DTEND;VALUE=DATE:20180215
DTSTAMP:20260421T132123
CREATED:20171122T203452Z
LAST-MODIFIED:20180109T174206Z
UID:867-1518566400-1518652799@johncolianni.com
SUMMARY:John Colianni
DESCRIPTION: 
URL:https://johncolianni.com/event/john-colianni-trio-3/
LOCATION:Bishop Gadsden Performance Center\, 1 Bishop Gadsden Way\, Charleston\, SC\, 29412\, United States
END:VEVENT
END:VCALENDAR