BEGIN:VCALENDAR
VERSION:2.0
PRODID:-//John Colianni - ECPv5.14.0.4//NONSGML v1.0//EN
CALSCALE:GREGORIAN
METHOD:PUBLISH
X-WR-CALNAME:John Colianni
X-ORIGINAL-URL:https://johncolianni.com
X-WR-CALDESC:Events for John Colianni
BEGIN:VTIMEZONE
TZID:UTC
BEGIN:STANDARD
TZOFFSETFROM:+0000
TZOFFSETTO:+0000
TZNAME:UTC
DTSTART:20180101T000000
END:STANDARD
END:VTIMEZONE
BEGIN:VEVENT
DTSTART;VALUE=DATE:20180211
DTEND;VALUE=DATE:20180212
DTSTAMP:20260421T183254
CREATED:20171122T202724Z
LAST-MODIFIED:20180205T213847Z
UID:859-1518307200-1518393599@johncolianni.com
SUMMARY:John Colianni Trio
DESCRIPTION:Tim Givens\, Bass\, Vito Lesczak\, Drums
URL:https://johncolianni.com/event/john-colianni-trio-2/
LOCATION:How Art Thou Jazz Club\, 1956 Maybank Hwy Suite E\, Charleston\, SC\, 29412\, United States
ATTACH;FMTTYPE=image/jpeg:https://johncolianni.com/wp-content/uploads/2017/11/24487_341872234880_2774113_n.jpg
END:VEVENT
END:VCALENDAR