BEGIN:VCALENDAR
VERSION:2.0
PRODID:-//John Colianni - ECPv5.14.0.4//NONSGML v1.0//EN
CALSCALE:GREGORIAN
METHOD:PUBLISH
X-WR-CALNAME:John Colianni
X-ORIGINAL-URL:https://johncolianni.com
X-WR-CALDESC:Events for John Colianni
BEGIN:VTIMEZONE
TZID:UTC
BEGIN:STANDARD
TZOFFSETFROM:+0000
TZOFFSETTO:+0000
TZNAME:UTC
DTSTART:20190101T000000
END:STANDARD
END:VTIMEZONE
BEGIN:VEVENT
DTSTART;TZID=UTC:20191214T173000
DTEND;TZID=UTC:20191214T173000
DTSTAMP:20260421T102015
CREATED:20180725T224040Z
LAST-MODIFIED:20191217T013915Z
UID:1500-1576344600-1576344600@johncolianni.com
SUMMARY:John Colianni – The Wayne Henderson Sextet at the Ossie Davis Theatre
DESCRIPTION:
URL:https://johncolianni.com/event/john-colianni-the-wayne-henderson-sextet-at-the-ossie-davis-theatre/
LOCATION:New Rochelle Public Library\, 1 Library Plaza\, New Rochelle\, NY\, 10801\, United States
END:VEVENT
END:VCALENDAR