BEGIN:VCALENDAR
VERSION:2.0
PRODID:-//John Colianni - ECPv5.14.0.4//NONSGML v1.0//EN
CALSCALE:GREGORIAN
METHOD:PUBLISH
X-WR-CALNAME:John Colianni
X-ORIGINAL-URL:https://johncolianni.com
X-WR-CALDESC:Events for John Colianni
BEGIN:VTIMEZONE
TZID:UTC
BEGIN:STANDARD
TZOFFSETFROM:+0000
TZOFFSETTO:+0000
TZNAME:UTC
DTSTART:20180101T000000
END:STANDARD
END:VTIMEZONE
BEGIN:VEVENT
DTSTART;VALUE=DATE:20180130
DTEND;VALUE=DATE:20180131
DTSTAMP:20260421T215344
CREATED:20171122T202042Z
LAST-MODIFIED:20180126T013013Z
UID:856-1517270400-1517356799@johncolianni.com
SUMMARY:John Colianni Sextet
DESCRIPTION:The new John Colianni Sextet brings its unique brand of modern swinging jazz to Jazz Tuesdays at the New York City Bahai Center this Tuesday January 30th at 8PM. \nLeader – arranger Colianni combines the swinging virtuosity of piano masters like Art Tatum and Oscar Peterson with a totally modern harmonic sensibility. \nFeaturing its two tenor front line along with a dynamic rhythm section featuring Matt Chertkoff\, Ralph Hamperian\, and Steve Johns\, they raise the bar to a high level of swinging creativity.
URL:https://johncolianni.com/event/john-colianni-sextet4/
LOCATION:Baha’i Center NYC\, 53 E 11th Street\, New York\, NY\, 10003\, United States
ATTACH;FMTTYPE=image/jpeg:https://johncolianni.com/wp-content/uploads/2017/11/JCJO-for-web4.1.jpeg
END:VEVENT
END:VCALENDAR