BEGIN:VCALENDAR
VERSION:2.0
PRODID:-//John Colianni - ECPv5.14.0.4//NONSGML v1.0//EN
CALSCALE:GREGORIAN
METHOD:PUBLISH
X-WR-CALNAME:John Colianni
X-ORIGINAL-URL:https://johncolianni.com
X-WR-CALDESC:Events for John Colianni
BEGIN:VTIMEZONE
TZID:UTC
BEGIN:STANDARD
TZOFFSETFROM:+0000
TZOFFSETTO:+0000
TZNAME:UTC
DTSTART:20170101T000000
END:STANDARD
END:VTIMEZONE
BEGIN:VEVENT
DTSTART;TZID=UTC:20171229T193000
DTEND;TZID=UTC:20171229T213000
DTSTAMP:20260422T005635
CREATED:20171222T033306Z
LAST-MODIFIED:20171222T033306Z
UID:962-1514575800-1514583000@johncolianni.com
SUMMARY:John Colianni Sextet
DESCRIPTION:
URL:https://johncolianni.com/event/john-colianni-sextet/
LOCATION:Club Bonafide\, 212 E 52nd Street\, New York\, NY\, 10022\, United States
ATTACH;FMTTYPE=image/jpeg:https://johncolianni.com/wp-content/uploads/2017/11/John-Colianni-21.jpg
END:VEVENT
END:VCALENDAR