BEGIN:VCALENDAR
VERSION:2.0
PRODID:-//John Colianni - ECPv5.14.0.4//NONSGML v1.0//EN
CALSCALE:GREGORIAN
METHOD:PUBLISH
X-WR-CALNAME:John Colianni
X-ORIGINAL-URL:https://johncolianni.com
X-WR-CALDESC:Events for John Colianni
BEGIN:VTIMEZONE
TZID:UTC
BEGIN:STANDARD
TZOFFSETFROM:+0000
TZOFFSETTO:+0000
TZNAME:UTC
DTSTART:20200101T000000
END:STANDARD
END:VTIMEZONE
BEGIN:VEVENT
DTSTART;TZID=UTC:20200222T203000
DTEND;TZID=UTC:20200222T223000
DTSTAMP:20260421T065344
CREATED:20180725T224040Z
LAST-MODIFIED:20200212T171508Z
UID:1553-1582403400-1582410600@johncolianni.com
SUMMARY:John Colianni Sextet with Bassist Lee Smith
DESCRIPTION:
URL:https://johncolianni.com/event/john-colianni-sextet-with-bassist-lee-smith/
LOCATION:Michener Art Museum\, 138 South Pine Street\, Doylestown\, PA\, 18901\, United States
END:VEVENT
END:VCALENDAR