BEGIN:VCALENDAR
VERSION:2.0
PRODID:-//John Colianni - ECPv5.14.0.4//NONSGML v1.0//EN
CALSCALE:GREGORIAN
METHOD:PUBLISH
X-WR-CALNAME:John Colianni
X-ORIGINAL-URL:https://johncolianni.com
X-WR-CALDESC:Events for John Colianni
BEGIN:VTIMEZONE
TZID:UTC
BEGIN:STANDARD
TZOFFSETFROM:+0000
TZOFFSETTO:+0000
TZNAME:UTC
DTSTART:20180101T000000
END:STANDARD
END:VTIMEZONE
BEGIN:VEVENT
DTSTART;TZID=UTC:20180702T190000
DTEND;TZID=UTC:20180702T203000
DTSTAMP:20260421T081109
CREATED:20180515T032809Z
LAST-MODIFIED:20180521T201716Z
UID:1139-1530558000-1530563400@johncolianni.com
SUMMARY:John Colianni Sextet at Birdland
DESCRIPTION:
URL:https://johncolianni.com/event/john-colianni-sextet-at-birdland/
LOCATION:Birdland\, 31 West 44th Street\, New York\, NY\, 10036\, United States
END:VEVENT
END:VCALENDAR