BEGIN:VCALENDAR
VERSION:2.0
PRODID:-//John Colianni - ECPv5.14.0.4//NONSGML v1.0//EN
CALSCALE:GREGORIAN
METHOD:PUBLISH
X-WR-CALNAME:John Colianni
X-ORIGINAL-URL:https://johncolianni.com
X-WR-CALDESC:Events for John Colianni
BEGIN:VTIMEZONE
TZID:UTC
BEGIN:STANDARD
TZOFFSETFROM:+0000
TZOFFSETTO:+0000
TZNAME:UTC
DTSTART:20180101T000000
END:STANDARD
END:VTIMEZONE
BEGIN:VEVENT
DTSTART;TZID=UTC:20180711T183000
DTEND;TZID=UTC:20180711T210000
DTSTAMP:20260421T183924
CREATED:20180424T163444Z
LAST-MODIFIED:20180625T202825Z
UID:1059-1531333800-1531342800@johncolianni.com
SUMMARY:John Colianni Sextet at Stuyvesant Cove Park
DESCRIPTION:
URL:https://johncolianni.com/event/john-colianni-quintet-at-stuyvesant-cove-park/
LOCATION:Stuyvesant Cove Park\, 20th Street Loop &\, E 20th St\, New York\, NY\, 10009\, United States
END:VEVENT
END:VCALENDAR