BEGIN:VCALENDAR
VERSION:2.0
PRODID:-//John Colianni - ECPv5.14.0.4//NONSGML v1.0//EN
CALSCALE:GREGORIAN
METHOD:PUBLISH
X-WR-CALNAME:John Colianni
X-ORIGINAL-URL:https://johncolianni.com
X-WR-CALDESC:Events for John Colianni
BEGIN:VTIMEZONE
TZID:UTC
BEGIN:STANDARD
TZOFFSETFROM:+0000
TZOFFSETTO:+0000
TZNAME:UTC
DTSTART:20180101T000000
END:STANDARD
END:VTIMEZONE
BEGIN:VEVENT
DTSTART;VALUE=DATE:20180315
DTEND;VALUE=DATE:20180316
DTSTAMP:20260421T051225
CREATED:20171122T204659Z
LAST-MODIFIED:20180224T235553Z
UID:878-1521072000-1521158399@johncolianni.com
SUMMARY:John Colianni Quartet
DESCRIPTION:with Boots Maleson\, Bass\, Steve Johns\, Drums\, and Matt Chertkoff\, Guitar
URL:https://johncolianni.com/event/john-colianni-quartet/
LOCATION:Kitano NYC\, 66 Park Avenue East 38th St\, New York\, NY\, 10016\, United States
ATTACH;FMTTYPE=image/jpeg:https://johncolianni.com/wp-content/uploads/2017/11/John-Colianni-24-1.jpg
END:VEVENT
END:VCALENDAR