BEGIN:VCALENDAR
VERSION:2.0
PRODID:-//John Colianni - ECPv5.14.0.4//NONSGML v1.0//EN
CALSCALE:GREGORIAN
METHOD:PUBLISH
X-WR-CALNAME:John Colianni
X-ORIGINAL-URL:https://johncolianni.com
X-WR-CALDESC:Events for John Colianni
BEGIN:VTIMEZONE
TZID:UTC
BEGIN:STANDARD
TZOFFSETFROM:+0000
TZOFFSETTO:+0000
TZNAME:UTC
DTSTART:20170101T000000
END:STANDARD
END:VTIMEZONE
BEGIN:VEVENT
DTSTART;TZID=UTC:20171214T200000
DTEND;TZID=UTC:20171214T233000
DTSTAMP:20260422T011859
CREATED:20171122T182937Z
LAST-MODIFIED:20171208T180705Z
UID:838-1513281600-1513294200@johncolianni.com
SUMMARY:John Colianni Jazz Orchestra
DESCRIPTION:Two sets 8 PM and 10 PM
URL:https://johncolianni.com/event/john-colianni-jazz-orchestra/
LOCATION:Zinc Bar\, 82nd W 3rd Street\, New York\, NY\, 10012\, United States
ATTACH;FMTTYPE=image/jpeg:https://johncolianni.com/wp-content/uploads/2017/11/John-Colianni-24-1.jpg
END:VEVENT
END:VCALENDAR