BEGIN:VCALENDAR
VERSION:2.0
PRODID:-//John Colianni - ECPv5.14.0.4//NONSGML v1.0//EN
CALSCALE:GREGORIAN
METHOD:PUBLISH
X-WR-CALNAME:John Colianni
X-ORIGINAL-URL:https://johncolianni.com
X-WR-CALDESC:Events for John Colianni
BEGIN:VTIMEZONE
TZID:UTC
BEGIN:STANDARD
TZOFFSETFROM:+0000
TZOFFSETTO:+0000
TZNAME:UTC
DTSTART:20190101T000000
END:STANDARD
END:VTIMEZONE
BEGIN:VEVENT
DTSTART;TZID=UTC:20191208T133000
DTEND;TZID=UTC:20191208T150000
DTSTAMP:20260421T112527
CREATED:20180725T224040Z
LAST-MODIFIED:20191116T185108Z
UID:1494-1575811800-1575817200@johncolianni.com
SUMMARY:John Colianni – Jazz on a Early December Afternoon
DESCRIPTION:
URL:https://johncolianni.com/event/john-colianni-jazz-on-a-early-december-afternoon/
LOCATION:Gregory’s Restaurant and Bar\, 900 Shore Road\, Somers Point\, NJ\, 08244\, United States
END:VEVENT
END:VCALENDAR