BEGIN:VCALENDAR
VERSION:2.0
PRODID:-//John Colianni - ECPv5.14.0.4//NONSGML v1.0//EN
CALSCALE:GREGORIAN
METHOD:PUBLISH
X-WR-CALNAME:John Colianni
X-ORIGINAL-URL:https://johncolianni.com
X-WR-CALDESC:Events for John Colianni
BEGIN:VTIMEZONE
TZID:UTC
BEGIN:STANDARD
TZOFFSETFROM:+0000
TZOFFSETTO:+0000
TZNAME:UTC
DTSTART:20180101T000000
END:STANDARD
END:VTIMEZONE
BEGIN:VEVENT
DTSTART;TZID=UTC:20180527T183000
DTEND;TZID=UTC:20180527T220000
DTSTAMP:20260421T045750
CREATED:20180508T174959Z
LAST-MODIFIED:20180522T144554Z
UID:1107-1527445800-1527458400@johncolianni.com
SUMMARY:John Colianni at Moore's Lounge
DESCRIPTION:
URL:https://johncolianni.com/event/john-colianni-at-moores-lounge/
LOCATION:Moore’s Lounge aka Bill & Ruth’s\, 189 Monticello Ave\, Jersey City\, NJ\, 07304\, United States
END:VEVENT
END:VCALENDAR