BEGIN:VCALENDAR
VERSION:2.0
PRODID:-//John Colianni - ECPv5.14.0.4//NONSGML v1.0//EN
CALSCALE:GREGORIAN
METHOD:PUBLISH
X-WR-CALNAME:John Colianni
X-ORIGINAL-URL:https://johncolianni.com
X-WR-CALDESC:Events for John Colianni
BEGIN:VTIMEZONE
TZID:UTC
BEGIN:STANDARD
TZOFFSETFROM:+0000
TZOFFSETTO:+0000
TZNAME:UTC
DTSTART:20170101T000000
END:STANDARD
END:VTIMEZONE
BEGIN:VEVENT
DTSTART;TZID=UTC:20171216T210000
DTEND;TZID=UTC:20171216T210000
DTSTAMP:20260422T005523
CREATED:20171122T184519Z
LAST-MODIFIED:20171208T182219Z
UID:844-1513458000-1513458000@johncolianni.com
SUMMARY:John Colianni
DESCRIPTION:With Bassist Boots Maleson
URL:https://johncolianni.com/event/john-colianni-2/
LOCATION:Knickerbocker Bar & Grill\, 33 University Place\, New York\, NY\, 10003\, United States
ATTACH;FMTTYPE=image/jpeg:https://johncolianni.com/wp-content/uploads/2017/11/149222_10150119556274196_8044355_n.jpg
END:VEVENT
END:VCALENDAR