BEGIN:VCALENDAR
VERSION:2.0
PRODID:-//John Colianni - ECPv5.14.0.4//NONSGML v1.0//EN
CALSCALE:GREGORIAN
METHOD:PUBLISH
X-WR-CALNAME:John Colianni
X-ORIGINAL-URL:https://johncolianni.com
X-WR-CALDESC:Events for John Colianni
BEGIN:VTIMEZONE
TZID:UTC
BEGIN:STANDARD
TZOFFSETFROM:+0000
TZOFFSETTO:+0000
TZNAME:UTC
DTSTART:20180101T000000
END:STANDARD
END:VTIMEZONE
BEGIN:VEVENT
DTSTART;VALUE=DATE:20180121
DTEND;VALUE=DATE:20180122
DTSTAMP:20260421T234502
CREATED:20171122T201341Z
LAST-MODIFIED:20180110T161721Z
UID:850-1516492800-1516579199@johncolianni.com
SUMMARY:"January Jazz" featuring Strings Attached and the New John Colianni Sextet
DESCRIPTION:JANUARY JAZZ\nSt. Mark’s Church in the Bowery\n131 East 10th Street\, NYC\nSunday January 21st at 3:30pm \nTickets – $20 at the door; $15 in advance or w/student ID.\nhttps://www.eventbrite.com/e/john-colianni-sextet-and-strings-attached-stmarks-church-tickets-41484568461 \nJOHN COLIANNI SEXTET\nGet a sneak preview of the new CD\n“He is the essence of a swinging\npianist”\nJohn S. Wilson New York Times\nCharacterized by its swing influenced\nrhythm section and its two tenor front\nline this powerhouse ensemble reflects\npianist-leader Colianni’s unique and\npersonal concept of modern jazz that\nswings in a small group format.\nFeaturing John Simon\, Chris Byars\nsaxophones\, Matt Chertkoff\, guitar\,\nSteve Johns drums and Boots\nMaleson\, bass. \nSTRINGS ATTACHED\nStrings Attached features four of\nNew York City’s premier six-string\njazz masters on a single stage—Jack\nWilkins\, Vic Juris\, Ron Affif\, and\nMark Whitfield. Combined\, their\nresumes are a veritable who’s-who of\njazz greats – Dizzy Gillespie\, Chet\nBaker\, Tony Bennett\, Herbie\nHancock and Sarah Vaughn\, to name\na few. They join forces as Strings\nAttached for a uniquely spectacular\nshow of jazz guitar wizardry.
URL:https://johncolianni.com/event/january_jazz/
LOCATION:St. Mark’s Church\, 101 E 10th Street\, New York\, NY\, 10003\, United States
ATTACH;FMTTYPE=image/jpeg:https://johncolianni.com/wp-content/uploads/2017/11/19225012_10156294155059196_581279560082523285_n.jpg
END:VEVENT
END:VCALENDAR